BEGIN:VCALENDAR
VERSION:2.0
PRODID:-//Heart Centered Touch for Men - ECPv6.15.15//NONSGML v1.0//EN
CALSCALE:GREGORIAN
METHOD:PUBLISH
X-WR-CALNAME:Heart Centered Touch for Men
X-ORIGINAL-URL:https://heart-centeredtouch.com
X-WR-CALDESC:Events for Heart Centered Touch for Men
REFRESH-INTERVAL;VALUE=DURATION:PT1H
X-Robots-Tag:noindex
X-PUBLISHED-TTL:PT1H
BEGIN:VTIMEZONE
TZID:UTC
BEGIN:STANDARD
TZOFFSETFROM:+0000
TZOFFSETTO:+0000
TZNAME:UTC
DTSTART:20250101T000000
END:STANDARD
END:VTIMEZONE
BEGIN:VEVENT
DTSTART;TZID=UTC:20260514T193000
DTEND;TZID=UTC:20260514T220000
DTSTAMP:20260421T160208
CREATED:20260419T195504Z
LAST-MODIFIED:20260419T195711Z
UID:2157-1778787000-1778796000@heart-centeredtouch.com
SUMMARY:New York Massage Exchange Group for Men
DESCRIPTION:
URL:https://heart-centeredtouch.com/event/new-york-massage-exchange-for-men/
END:VEVENT
BEGIN:VEVENT
DTSTART;TZID=UTC:20260524T120000
DTEND;TZID=UTC:20260524T160000
DTSTAMP:20260421T160208
CREATED:20260421T015540Z
LAST-MODIFIED:20260421T015540Z
UID:2164-1779624000-1779638400@heart-centeredtouch.com
SUMMARY:The Heart of Connection: Conscious Touch for Men Workshop New York May 24\, 2026
DESCRIPTION:
URL:https://heart-centeredtouch.com/event/the-heart-of-connection-conscious-touch-for-men-workshop-new-york-may-24-2026/
END:VEVENT
END:VCALENDAR