BEGIN:VCALENDAR
VERSION:2.0
PRODID:-//Heart Centered Touch for Men - ECPv6.15.15//NONSGML v1.0//EN
CALSCALE:GREGORIAN
METHOD:PUBLISH
X-ORIGINAL-URL:https://heart-centeredtouch.com
X-WR-CALDESC:Events for Heart Centered Touch for Men
REFRESH-INTERVAL;VALUE=DURATION:PT1H
X-Robots-Tag:noindex
X-PUBLISHED-TTL:PT1H
BEGIN:VTIMEZONE
TZID:UTC
BEGIN:STANDARD
TZOFFSETFROM:+0000
TZOFFSETTO:+0000
TZNAME:UTC
DTSTART:20240101T000000
END:STANDARD
END:VTIMEZONE
BEGIN:VEVENT
DTSTART;TZID=UTC:20250212T193000
DTEND;TZID=UTC:20251211T220000
DTSTAMP:20260422T023731
CREATED:20251204T010154Z
LAST-MODIFIED:20260206T175108Z
UID:2042-1739388600-1765490400@heart-centeredtouch.com
SUMMARY:Massage Exchange Group New York City
DESCRIPTION:Join us for our regular monthly MASSAGE EXCHANGE Group where we exchange Touch with each other in a safe space for all men.
URL:https://heart-centeredtouch.com/event/massage-exchange-group-new-york-city/
END:VEVENT
END:VCALENDAR