BEGIN:VCALENDAR
VERSION:2.0
PRODID:-//Heart Centered Touch for Men - ECPv6.15.15//NONSGML v1.0//EN
CALSCALE:GREGORIAN
METHOD:PUBLISH
X-ORIGINAL-URL:https://heart-centeredtouch.com
X-WR-CALDESC:Events for Heart Centered Touch for Men
REFRESH-INTERVAL;VALUE=DURATION:PT1H
X-Robots-Tag:noindex
X-PUBLISHED-TTL:PT1H
BEGIN:VTIMEZONE
TZID:UTC
BEGIN:STANDARD
TZOFFSETFROM:+0000
TZOFFSETTO:+0000
TZNAME:UTC
DTSTART:20250101T000000
END:STANDARD
END:VTIMEZONE
BEGIN:VEVENT
DTSTART;VALUE=DATE:20260217
DTEND;VALUE=DATE:20260224
DTSTAMP:20260421T112513
CREATED:20250109T132235Z
LAST-MODIFIED:20250910T010306Z
UID:955-1771286400-1771891199@heart-centeredtouch.com
SUMMARY:8th Annual Men’s Tantra & Touch Retreat Zipolite\, Mexico February 17-23\, 2026
DESCRIPTION:Adam has brought students to Zipolite\, Mexico for the past seven years. Men return year after year to enjoy the warm climate and the open-atmosphere of the town. Our hotel supports our learning and practice and provides a supportive home-base for our groups. A cook is dedicated to providing high-quality\, local meals for our group. \nZipolite is unique in Mexico as a not a resort kind of town that has much to offer: restaurants\, beach-practice sessions\, stellar sunsets over the Pacific Ocean and an acceptance of diversity. \nThe retreat days are divided up into:\n\nMornings: QiGong (Taoist yoga) class\, warm breakfast\, skills-classes and touch-practice. Discussions of concepts of Taoism and Tantra Principles of living.\nAfternoons: Touch practice-time exploring the skills introduced. On retreat\, there are opportunities for discussion around issues facing us in our lives and in our communities.\nEvenings are about dinners in town\, night beach walks\, music and dance.\nCost for this all-inclusive package: $1\,800 based on double-occupancy.
URL:https://heart-centeredtouch.com/event/8th-annual-mens-tantra-touch-retreat-zipolite-mexico/
LOCATION:La Loma Linda hotel\, Playa Zipolite\, Mexico
CATEGORIES:Retreats
ATTACH;FMTTYPE=image/jpeg:https://heart-centeredtouch.com/wp-content/uploads/2024/12/nude-bathing.jpg
ORGANIZER;CN="Heart Centered Touch for Men":MAILTO:adambrown456@gmail.com
END:VEVENT
END:VCALENDAR