BEGIN:VCALENDAR
VERSION:2.0
PRODID:-//Heart Centered Touch for Men - ECPv6.15.15//NONSGML v1.0//EN
CALSCALE:GREGORIAN
METHOD:PUBLISH
X-WR-CALNAME:Heart Centered Touch for Men
X-ORIGINAL-URL:https://heart-centeredtouch.com
X-WR-CALDESC:Events for Heart Centered Touch for Men
REFRESH-INTERVAL;VALUE=DURATION:PT1H
X-Robots-Tag:noindex
X-PUBLISHED-TTL:PT1H
BEGIN:VTIMEZONE
TZID:UTC
BEGIN:STANDARD
TZOFFSETFROM:+0000
TZOFFSETTO:+0000
TZNAME:UTC
DTSTART:20250101T000000
END:STANDARD
END:VTIMEZONE
BEGIN:VEVENT
DTSTART;TZID=UTC:20260305T193000
DTEND;TZID=UTC:20260305T223000
DTSTAMP:20260421T095141
CREATED:20260206T175352Z
LAST-MODIFIED:20260206T175352Z
UID:2066-1772739000-1772749800@heart-centeredtouch.com
SUMMARY:Uniting Spirit and Eros with Touch
DESCRIPTION:This new workshop will highlight the importance of healthy sensual/erotic expression as a reflection of your inner experience. Things to gain like better communication\, clarity and physical and soul-satisfaction. Touch Sessions nourish our inner lives as well as our bodies. The connection of feelings and sensations can help guide us to a fuller\, more expansive expressions of who we are/becoming. \nModes of Touch\, Communication and Breathing introduce greater awareness and thus\, clearer expressions of our inner lives and our truth. \nTantra calls s to embrace all aspects of ourselves as expressions of our Divine nature. This workshop will aim to build a container to hold it all: sensation; feelings; obstacles and a sense of aliveness through pleasure. \nThis approach is Tantric in nature\, merging our male and female energies to become more fully present. \nThis workshop will be done in the nude and is limited to 12 men.
URL:https://heart-centeredtouch.com/event/uniting-spirit-and-eros-with-touch/
END:VEVENT
BEGIN:VEVENT
DTSTART;TZID=UTC:20260312T193000
DTEND;TZID=UTC:20260312T220000
DTSTAMP:20260421T095141
CREATED:20260206T175823Z
LAST-MODIFIED:20260207T132050Z
UID:2068-1773343800-1773352800@heart-centeredtouch.com
SUMMARY:Massage Exchange Group for Men
DESCRIPTION:We explore ways we can communicate effectively through touch practicing our skills and learning new ways to touch. Discover how joyful it is to share the gifts we all have. We all learn from each other. Heart-Centered Touch for Men is a safe space to explore touch\, receive guidance and become better at giving and receiving nourishing\, respectful touch. \nWe are naked giving and receiving touch. We make clear agreements to set your boundaries for each round of touch. We switch partners every 20 minutes in order to get the chance to work with different men. It’s fun. It’s light. It’s relaxing. And\, it’s a sensual meeting of men. \nThe driving force behind this group is to form a community that is anchored in touch and healing. The benefits are far-reaching when\, as men\, we learn how to touch consciously. In Heart-Centered Touch\, men have an opportunity to share\, learn\, touch and heal. \n  \n 
URL:https://heart-centeredtouch.com/event/massage-exchange-group-for-men/
END:VEVENT
END:VCALENDAR